BEGIN:VCALENDAR
VERSION:2.0
PRODID:-//Muslim Healthcare Professionals Association - ECPv6.15.19//NONSGML v1.0//EN
CALSCALE:GREGORIAN
METHOD:PUBLISH
X-WR-CALNAME:Muslim Healthcare Professionals Association
X-ORIGINAL-URL:https://mhpa.org.sg
X-WR-CALDESC:Events for Muslim Healthcare Professionals Association
REFRESH-INTERVAL;VALUE=DURATION:PT1H
X-Robots-Tag:noindex
X-PUBLISHED-TTL:PT1H
BEGIN:VTIMEZONE
TZID:Asia/Singapore
BEGIN:STANDARD
TZOFFSETFROM:+0800
TZOFFSETTO:+0800
TZNAME:+08
DTSTART:20240101T000000
END:STANDARD
END:VTIMEZONE
BEGIN:VEVENT
DTSTART;TZID=Asia/Singapore:20251004T133000
DTEND;TZID=Asia/Singapore:20251004T170000
DTSTAMP:20260423T065316
CREATED:20250930T055539Z
LAST-MODIFIED:20250930T060419Z
UID:1777-1759584600-1759597200@mhpa.org.sg
SUMMARY:CME: An introduction to the intranasal flu vaccine and MHPA AGM
DESCRIPTION:This event is open to health professionals only \n\n\n\n\n\nElevate your clinical practice at our next CME on October 4th\, 2025\, at Royal Plaza on Scotts\, Singapore. Gain cutting-edge insights directly applicable to your daily work: Dr. Ashok Kurup will unveil the latest advancements in intranasal flu vaccines\, offering a crucial update for patient care\, while Dr. Leong Hoe Nam will enhance your diagnostic and management skills with the latest data and research on influenza. This is an invaluable opportunity for members to secure pending CME & CNE points while enriching your expertise and networking with peers. Click here to register today and invest in your professional growth! \n\n\n\nFollowing the CME event\, please join us for our Annual General Meeting at 4pm for our latest updates and upcoming events. \n\n\n\nUpdate: Please note the event location has been updated to Scott’s Suite\, Level 2 at Royal Plaza on Scotts.
URL:https://mhpa.org.sg/event/cme-an-introduction-to-the-intranasal-flu-vaccine-and-mhpa-agm/
LOCATION:Royal Plaza on Scotts Singapore\, 25 Scotts Road\, 228220\, Singapore
CATEGORIES:CME,For Health Professionals
ATTACH;FMTTYPE=image/png:https://mhpa.org.sg/wp-content/uploads/2025/09/MHPA-CME-AGM-4-Oct-2025-updated-location-scaled.png
END:VEVENT
END:VCALENDAR