BEGIN:VCALENDAR
VERSION:2.0
PRODID:-//Muslim Healthcare Professionals Association - ECPv6.15.19//NONSGML v1.0//EN
CALSCALE:GREGORIAN
METHOD:PUBLISH
X-WR-CALNAME:Muslim Healthcare Professionals Association
X-ORIGINAL-URL:https://mhpa.org.sg
X-WR-CALDESC:Events for Muslim Healthcare Professionals Association
REFRESH-INTERVAL;VALUE=DURATION:PT1H
X-Robots-Tag:noindex
X-PUBLISHED-TTL:PT1H
BEGIN:VTIMEZONE
TZID:Asia/Singapore
BEGIN:STANDARD
TZOFFSETFROM:+0800
TZOFFSETTO:+0800
TZNAME:+08
DTSTART:20240101T000000
END:STANDARD
END:VTIMEZONE
BEGIN:VEVENT
DTSTART;TZID=Asia/Singapore:20251206T090000
DTEND;TZID=Asia/Singapore:20251207T130000
DTSTAMP:20260423T063644
CREATED:20251127T145105Z
LAST-MODIFIED:20251127T145109Z
UID:1822-1765011600-1765112400@mhpa.org.sg
SUMMARY:Muslim Healthcare Outreach Programme 2025
DESCRIPTION:Your Journey into Healthcare Starts Here!\n\n\n\n\n\nAre you passionate about service\, medicine\, or allied health? Then prepare for the ultimate launchpad into your healthcare studies and career! The Muslim Healthcare Outreach Programme (MHOP) is back for 2025/2026\, and you are officially invited to this inspiring two-day event designed specifically for pre-university students like you. \n\n\n\nOrganised annually by Muslim undergraduate healthcare students\, MHOP has consistently aimed to equip aspiring students with the vital knowledge needed to make informed decisions about their future. MHOP’s mission is clear: to provide deep insights into Singapore’s diverse healthcare sector and the courses available\, ensuring you get the guidance necessary for your university applications. \n\n\n\nWhat Awaits You?\n\n\n\nThis is far more than just a seminar—it’s an immersive experience! Over the weekend\, you can expect: \n\n\n\n\nInspiring Talks by experienced healthcare professionals from various fields.\n\n\n\nEssential Introductions to a wide range of healthcare courses.\n\n\n\nHands-on Skills-based Workshops to give you a taste of clinical life.\n\n\n\n\n\n\n\n\n\n\n\n\n\n\n\n\nBeyond the event\, gain exclusive access to post-event programmes\, mentoring\, and invaluable job-shadowing opportunities in healthcare. \n\n\n\nReady to take the next step towards a fulfilling career? The doors to healthcare are opening! \n\n\n\nDay 1: Saturday 6 December 2025\, 9am – 5pmDay 2: Sunday 7 December 2025\, 9am – 1pm \n\n\n\n\n\n\n\n\nSecure your seat here!\n\n\n\n\n\n\n\n\nDON’T MISS OUT! Space is limited for this highly sought-after programme. Seize this opportunity to meet healthcare professionals\, connect with current students\, and gain clarity on your future. \n\n\n\nFor more details and updates\, follow MHOP’s official channels: \n\n\n\n\nInstagram\n\n\n\nFacebook\n\n\n\nTelegram Inarah or Ariqa\n\n\n\n\nYour future in healthcare is calling—answer it today!
URL:https://mhpa.org.sg/event/muslim-healthcare-outreach-programme-2025/
LOCATION:NUS LT35\, 14 Medical Drive\, MD6\, 117599\, Singapore
CATEGORIES:Open to Public
ATTACH;FMTTYPE=image/jpeg:https://mhpa.org.sg/wp-content/uploads/2025/11/WhatsApp-Image-2025-11-25-at-23.20.37.jpeg
ORGANIZER;CN="MHOP":MAILTO:officialmhop@gmail.com
END:VEVENT
BEGIN:VEVENT
DTSTART;TZID=Asia/Singapore:20260131T140000
DTEND;TZID=Asia/Singapore:20260131T160000
DTSTAMP:20260423T063644
CREATED:20260114T125101Z
LAST-MODIFIED:20260117T033710Z
UID:2390-1769868000-1769875200@mhpa.org.sg
SUMMARY:CME: Empowering a Safe Ramadan
DESCRIPTION:Dear Colleagues\, \n\n\n\nWith Ramadan approaching\, update your clinical practice with the latest clinical pearls to support your patients. Join us for this multidisciplinary session organized by MHPA\, open to all healthcare professionals. \n\n\n\n🎙Our Expert Panel: \n\n\n\n\nDr. Sueziani Zainudin\, endocrinologist: The Sweet Spot: Balancing Glycemic Control and Safety (plus DaR-ADA-IDF updates).\n\n\n\nDr. Bhavesh Doshi\, gastroenterologist: From Iftar to Sahur: A Holistic approach to fasting in chronic GERD.\n\n\n\nHumairah Hameed\, clinical dietitian: Sustainable Fasting: Dietary Strategies for the High-Risk Patient.\n\n\n\n\n \n\n\n\n📅 Date: Saturday\, 31st January ⏰ Time: 2pm – 4pm 📍 Venue: AMP @ Pasir Ris\, Pasir Ris East Community Club (1 Pasir Ris Drive 4\, S519457) ✅ CME/CPE Points: Pending 🎟️ Admission: FREE \n\n\n\nMake sure your patients are Ramadan-Ready with evidence-based strategies from our specialists. \n\n\n\n👉Register here:https://ggl.link/mhpacme or scan the QR code attached.
URL:https://mhpa.org.sg/event/cme-empowering-a-safe-ramadan/
LOCATION:AMP\, 1 Pasir Ris Drive 4\, 519457\, Singapore
CATEGORIES:CME,For Health Professionals
ATTACH;FMTTYPE=image/png:https://mhpa.org.sg/wp-content/uploads/2026/01/Final-CME-Empowering-a-Safe-Ramadan-31-Jan-2-4pm-at-AMP.png
END:VEVENT
BEGIN:VEVENT
DTSTART;TZID=Asia/Singapore:20260328T130000
DTEND;TZID=Asia/Singapore:20260328T160000
DTSTAMP:20260423T063644
CREATED:20260108T185013Z
LAST-MODIFIED:20260325T131216Z
UID:2181-1774702800-1774713600@mhpa.org.sg
SUMMARY:Balik Kampung - An Eid Celebration
DESCRIPTION:MHPA will be celebrating Eid in 2026 with our members and friends InsyaAllah. \n\n\n\n\n\n\nBook Your Tickets Here\n\n\n\n\nDate: Saturday 28 March 2026 \n\n\n\nTime: 1pm – 4pm \n\n\n\nLocation: Village Hotel BugisRed Velvet Ballroom390 Victoria Street #05-02Singapore 188061 \n\n\n\nGuest of Honour: Assoc Prof Faishal Ibrahim \n\n\n\nDress code: Traditional
URL:https://mhpa.org.sg/event/mhpa-eid-celebrations/
LOCATION:The Village Hotel Bugis\, 390 Victoria Street\, 188061\, Singapore
CATEGORIES:For Health Professionals,Members Only
ATTACH;FMTTYPE=image/png:https://mhpa.org.sg/wp-content/uploads/2026/03/Balik-Kampung-Logo-updated-25March.png
END:VEVENT
END:VCALENDAR