BEGIN:VCALENDAR
VERSION:2.0
PRODID:-//Muslim Healthcare Professionals Association - ECPv6.15.19//NONSGML v1.0//EN
CALSCALE:GREGORIAN
METHOD:PUBLISH
X-WR-CALNAME:Muslim Healthcare Professionals Association
X-ORIGINAL-URL:https://mhpa.org.sg
X-WR-CALDESC:Events for Muslim Healthcare Professionals Association
REFRESH-INTERVAL;VALUE=DURATION:PT1H
X-Robots-Tag:noindex
X-PUBLISHED-TTL:PT1H
BEGIN:VTIMEZONE
TZID:Asia/Singapore
BEGIN:STANDARD
TZOFFSETFROM:+0800
TZOFFSETTO:+0800
TZNAME:+08
DTSTART:20250101T000000
END:STANDARD
END:VTIMEZONE
BEGIN:VEVENT
DTSTART;TZID=Asia/Singapore:20260328T130000
DTEND;TZID=Asia/Singapore:20260328T160000
DTSTAMP:20260423T063533
CREATED:20260108T185013Z
LAST-MODIFIED:20260325T131216Z
UID:2181-1774702800-1774713600@mhpa.org.sg
SUMMARY:Balik Kampung - An Eid Celebration
DESCRIPTION:MHPA will be celebrating Eid in 2026 with our members and friends InsyaAllah. \n\n\n\n\n\n\nBook Your Tickets Here\n\n\n\n\nDate: Saturday 28 March 2026 \n\n\n\nTime: 1pm – 4pm \n\n\n\nLocation: Village Hotel BugisRed Velvet Ballroom390 Victoria Street #05-02Singapore 188061 \n\n\n\nGuest of Honour: Assoc Prof Faishal Ibrahim \n\n\n\nDress code: Traditional
URL:https://mhpa.org.sg/event/mhpa-eid-celebrations/
LOCATION:The Village Hotel Bugis\, 390 Victoria Street\, 188061\, Singapore
CATEGORIES:For Health Professionals,Members Only
ATTACH;FMTTYPE=image/png:https://mhpa.org.sg/wp-content/uploads/2026/03/Balik-Kampung-Logo-updated-25March.png
END:VEVENT
END:VCALENDAR