BEGIN:VCALENDAR
VERSION:2.0
PRODID:-//Muslim Healthcare Professionals Association - ECPv6.15.19//NONSGML v1.0//EN
CALSCALE:GREGORIAN
METHOD:PUBLISH
X-WR-CALNAME:Muslim Healthcare Professionals Association
X-ORIGINAL-URL:https://mhpa.org.sg
X-WR-CALDESC:Events for Muslim Healthcare Professionals Association
REFRESH-INTERVAL;VALUE=DURATION:PT1H
X-Robots-Tag:noindex
X-PUBLISHED-TTL:PT1H
BEGIN:VTIMEZONE
TZID:Asia/Singapore
BEGIN:STANDARD
TZOFFSETFROM:+0800
TZOFFSETTO:+0800
TZNAME:+08
DTSTART:20230101T000000
END:STANDARD
END:VTIMEZONE
BEGIN:VEVENT
DTSTART;TZID=Asia/Singapore:20250105T120000
DTEND;TZID=Asia/Singapore:20250105T130000
DTSTAMP:20260423T064016
CREATED:20241206T015957Z
LAST-MODIFIED:20241210T160314Z
UID:448-1736078400-1736082000@mhpa.org.sg
SUMMARY:Get Fit for Haj @ Masjid Sultan
DESCRIPTION:Continuing our successful collaboration with Health Promotion Board and local Haj General Service Agents (GSAs)\, MHPA focuses on enhancing health and physical fitness preparation among Haj pilgrims. \n\n\n\nGSA: Hagel TravelsMHPA Speaker: Dr Muhammad Zahran
URL:https://mhpa.org.sg/event/get-fit-for-haj-masjid-sultan/
LOCATION:Masjid Sultan\, 3 Muscat St\, 198833\, Singapore
CATEGORIES:Open to Public,Seminar
ATTACH;FMTTYPE=image/jpeg:https://mhpa.org.sg/wp-content/uploads/2024/12/haj.jpg
END:VEVENT
BEGIN:VEVENT
DTSTART;TZID=Asia/Singapore:20250105T083000
DTEND;TZID=Asia/Singapore:20250105T113000
DTSTAMP:20260423T064016
CREATED:20241222T094825Z
LAST-MODIFIED:20241222T095559Z
UID:1008-1736065800-1736076600@mhpa.org.sg
SUMMARY:Kita Cukup Manis Tak?
DESCRIPTION:M3 @ Marsiling-Yew Tee and MHPA collaborates to bring you a fun\, engaging and interactive morning to invest in your health and your loved ones. Start the morning right with a free group fitness session by HPB. Check your diabetes risk with our free on-site blood glucose checks. Cool down and participate in an interactive Malay-language seminar on diabetes – an increasingly common chronic condition in our community. Our panelists provide unique and valuable perspectives on identifying and reducing your diabetes risk\, as well as caring for our family and friends who live with diabetes. Participate in our live quiz and stand to win attractive prizes. \n\n\n\nPlease note: light refreshments will be provided. \n\n\n\n\n\nM3 @Marsiling-Yew Tee bersama MHPA menjayakan sesi aktiviti untuk meningkatkan saham kesihatan anda dan yang tersayang. Mula pagi anda dengan sesi senaman berkumpulan percuma anjuran HPB. Periksa risiko diabetes anda dengan ujian kadar gula darah percuma. Rehat sambil menimba ilmu dengan seminar mengenali diabetes. Panelis kami yang terdiri dari latarbelakang berbeza akan mengupas dan memberi sudun pandagan yang unik untuk mengenalpasti risiko diabetes dan menjaga ahli keluarga yang menghidapi diabetes. Jom ambil bahagian kuiz kami untuk berpeluang menangi hadiah menarik. \n\n\n\nSila dimaklumkan: Juadah ringan akan disediakan. \n\n\n\n\n\nSila daftar di sini.
URL:https://mhpa.org.sg/event/kita-cukup-manis-tak/
LOCATION:Marsiling Community Club\, 100 Admiralty Road\, 739980\, Singapore
CATEGORIES:Health Screening,Open to Public,Seminar
ATTACH;FMTTYPE=image/jpeg:https://mhpa.org.sg/wp-content/uploads/2024/12/Kita-Cukuop-Manis-Tak-Jan-2025.jpeg
END:VEVENT
BEGIN:VEVENT
DTSTART;TZID=Asia/Singapore:20241207T090000
DTEND;TZID=Asia/Singapore:20241208T120000
DTSTAMP:20260423T064016
CREATED:20241128T204931Z
LAST-MODIFIED:20241210T160333Z
UID:166-1733562000-1733659200@mhpa.org.sg
SUMMARY:Muslim Healthcare Outreach Programme 2024
DESCRIPTION:MHOP aims to reach out to Pre-University Muslim Students and give them insights of the healthcare sector as well the the healthcare courses available in Singapore.  Our initiatives also aim to help students make an informed decision & get as much guidance as possible in applying for a healthcare course.  \n\n\n\n\n\n\n\nMHOP 2024 will be happening on 7 & 8 December 2024! \n\n\n\nMHOP consists of the following: \n\n\n\n\nTalks by healthcare professionals and students\n\n\n\nIntroduction to healthcare courses\n\n\n\nHands-on stations\n\n\n\nJob shadowing and mentoring opportunities\n\n\n\n\n\n\n\n\nWhat are you waiting for?  Grab your friends and come together –  Register via this link: tinyurl.com/MHOP2024 \n\n\n\nMore details on our Instagram @mhop_sg \n\n\n\nYou can also find us on Facebook: Muslim Healthcare Outreach Programmes for more information!  \n\n\n\nWe hope to have you as part of MHOP 2024\, In Shaa Allah!
URL:https://mhpa.org.sg/event/mhop-2024/
LOCATION:NUS LT 20\, 8 Science Drive 2\, 117547\, Singapore
CATEGORIES:Open to Public
ATTACH;FMTTYPE=image/jpeg:https://mhpa.org.sg/wp-content/uploads/2024/12/qtq80-Ovc2Am.jpeg
ORGANIZER;CN="MHOP team":MAILTO:officialmhop@gmail.com
END:VEVENT
END:VCALENDAR